Workbook

Sheet Sheet1
B1: EASTBOURNE BADMINTON
B3: FIXTURES 2026 - 2027
B5: Team | F5: Division
B7: Date | D7: Home Team | F7: Away Team | H7: Location | J7: Time | L7: Courts
E8: v | H8: =IF($D8=Sheet2!$A$2,Sheet2!$C$2,IF($D8=Sheet2!$A$3,Sheet2!$C$3,IF($D8=Sheet2!$A$4,Sheet2!$C$4,IF($D8=Sheet2!$A$5,Sheet2!$C$5,IF($D8=Sheet2!$A$6,Sheet2!$C$6,IF($D8=Sheet2!$A$7,Sheet2!$C$7," ")))))) | J8: =IF($D8=Sheet2!$A$2,Sheet2!$G$2,IF($D8=Sheet2!$A$2,Sheet2!$G$2,IF($D8=Sheet2!$A$3,Sheet2!$G$3,IF($D8=Sheet2!$A$4,Sheet2!$G$4,IF($D8=Sheet2!$A$5,Sheet2!$G$5,IF($D8=Sheet2!$A$6,Sheet2!$G$6,IF($D8=Sheet2!$A$7,Sheet2!$G$7," "))))))) | L8: =IF($D8=Sheet2!$A$2,Sheet2!$I$2,IF($D8=Sheet2!$A$2,Sheet2!$I$2,IF($D8=Sheet2!$A$3,Sheet2!$I$3,IF($D8=Sheet2!$A$4,Sheet2!$I$4,IF($D8=Sheet2!$A$5,Sheet2!$I$5,IF($D8=Sheet2!$A$6,Sheet2!$I$6,IF($D8=Sheet2!$A$7,Sheet2!$I$7," ")))))))
E10: v | H10: =IF($D10=Sheet2!$A$2,Sheet2!$C$2,IF($D10=Sheet2!$A$3,Sheet2!$C$3,IF($D10=Sheet2!$A$4,Sheet2!$C$4,IF($D10=Sheet2!$A$5,Sheet2!$C$5,IF($D10=Sheet2!$A$6,Sheet2!$C$6,IF($D10=Sheet2!$A$7,Sheet2!$C$7," ")))))) | J10: =IF($D10=Sheet2!$A$2,Sheet2!$G$2,IF($D10=Sheet2!$A$2,Sheet2!$G$2,IF($D10=Sheet2!$A$3,Sheet2!$G$3,IF($D10=Sheet2!$A$4,Sheet2!$G$4,IF($D10=Sheet2!$A$5,Sheet2!$G$5,IF($D10=Sheet2!$A$6,Sheet2!$G$6,IF($D10=Sheet2!$A$7,Sheet2!$G$7," "))))))) | L10: =IF($D10=Sheet2!$A$2,Sheet2!$I$2,IF($D10=Sheet2!$A$2,Sheet2!$I$2,IF($D10=Sheet2!$A$3,Sheet2!$I$3,IF($D10=Sheet2!$A$4,Sheet2!$I$4,IF($D10=Sheet2!$A$5,Sheet2!$I$5,IF($D10=Sheet2!$A$6,Sheet2!$I$6,IF($D10=Sheet2!$A$7,Sheet2!$I$7," ")))))))
E12: v | H12: =IF($D12=Sheet2!$A$2,Sheet2!$C$2,IF($D12=Sheet2!$A$3,Sheet2!$C$3,IF($D12=Sheet2!$A$4,Sheet2!$C$4,IF($D12=Sheet2!$A$5,Sheet2!$C$5,IF($D12=Sheet2!$A$6,Sheet2!$C$6,IF($D12=Sheet2!$A$7,Sheet2!$C$7," ")))))) | J12: =IF($D12=Sheet2!$A$2,Sheet2!$G$2,IF($D12=Sheet2!$A$2,Sheet2!$G$2,IF($D12=Sheet2!$A$3,Sheet2!$G$3,IF($D12=Sheet2!$A$4,Sheet2!$G$4,IF($D12=Sheet2!$A$5,Sheet2!$G$5,IF($D12=Sheet2!$A$6,Sheet2!$G$6,IF($D12=Sheet2!$A$7,Sheet2!$G$7," "))))))) | L12: =IF($D12=Sheet2!$A$2,Sheet2!$I$2,IF($D12=Sheet2!$A$2,Sheet2!$I$2,IF($D12=Sheet2!$A$3,Sheet2!$I$3,IF($D12=Sheet2!$A$4,Sheet2!$I$4,IF($D12=Sheet2!$A$5,Sheet2!$I$5,IF($D12=Sheet2!$A$6,Sheet2!$I$6,IF($D12=Sheet2!$A$7,Sheet2!$I$7," ")))))))
E14: v | H14: =IF($D14=Sheet2!$A$2,Sheet2!$C$2,IF($D14=Sheet2!$A$3,Sheet2!$C$3,IF($D14=Sheet2!$A$4,Sheet2!$C$4,IF($D14=Sheet2!$A$5,Sheet2!$C$5,IF($D14=Sheet2!$A$6,Sheet2!$C$6,IF($D14=Sheet2!$A$7,Sheet2!$C$7," ")))))) | J14: =IF($D14=Sheet2!$A$2,Sheet2!$G$2,IF($D14=Sheet2!$A$2,Sheet2!$G$2,IF($D14=Sheet2!$A$3,Sheet2!$G$3,IF($D14=Sheet2!$A$4,Sheet2!$G$4,IF($D14=Sheet2!$A$5,Sheet2!$G$5,IF($D14=Sheet2!$A$6,Sheet2!$G$6,IF($D14=Sheet2!$A$7,Sheet2!$G$7," "))))))) | L14: =IF($D14=Sheet2!$A$2,Sheet2!$I$2,IF($D14=Sheet2!$A$2,Sheet2!$I$2,IF($D14=Sheet2!$A$3,Sheet2!$I$3,IF($D14=Sheet2!$A$4,Sheet2!$I$4,IF($D14=Sheet2!$A$5,Sheet2!$I$5,IF($D14=Sheet2!$A$6,Sheet2!$I$6,IF($D14=Sheet2!$A$7,Sheet2!$I$7," ")))))))
E16: v | H16: =IF($D16=Sheet2!$A$2,Sheet2!$C$2,IF($D16=Sheet2!$A$3,Sheet2!$C$3,IF($D16=Sheet2!$A$4,Sheet2!$C$4,IF($D16=Sheet2!$A$5,Sheet2!$C$5,IF($D16=Sheet2!$A$6,Sheet2!$C$6,IF($D16=Sheet2!$A$7,Sheet2!$C$7," ")))))) | J16: =IF($D16=Sheet2!$A$2,Sheet2!$G$2,IF($D16=Sheet2!$A$2,Sheet2!$G$2,IF($D16=Sheet2!$A$3,Sheet2!$G$3,IF($D16=Sheet2!$A$4,Sheet2!$G$4,IF($D16=Sheet2!$A$5,Sheet2!$G$5,IF($D16=Sheet2!$A$6,Sheet2!$G$6,IF($D16=Sheet2!$A$7,Sheet2!$G$7," "))))))) | L16: =IF($D16=Sheet2!$A$2,Sheet2!$I$2,IF($D16=Sheet2!$A$2,Sheet2!$I$2,IF($D16=Sheet2!$A$3,Sheet2!$I$3,IF($D16=Sheet2!$A$4,Sheet2!$I$4,IF($D16=Sheet2!$A$5,Sheet2!$I$5,IF($D16=Sheet2!$A$6,Sheet2!$I$6,IF($D16=Sheet2!$A$7,Sheet2!$I$7," ")))))))
E18: v | H18: =IF($D18=Sheet2!$A$2,Sheet2!$C$2,IF($D18=Sheet2!$A$3,Sheet2!$C$3,IF($D18=Sheet2!$A$4,Sheet2!$C$4,IF($D18=Sheet2!$A$5,Sheet2!$C$5,IF($D18=Sheet2!$A$6,Sheet2!$C$6,IF($D18=Sheet2!$A$7,Sheet2!$C$7," ")))))) | J18: =IF($D18=Sheet2!$A$2,Sheet2!$G$2,IF($D18=Sheet2!$A$2,Sheet2!$G$2,IF($D18=Sheet2!$A$3,Sheet2!$G$3,IF($D18=Sheet2!$A$4,Sheet2!$G$4,IF($D18=Sheet2!$A$5,Sheet2!$G$5,IF($D18=Sheet2!$A$6,Sheet2!$G$6,IF($D18=Sheet2!$A$7,Sheet2!$G$7," "))))))) | L18: =IF($D18=Sheet2!$A$2,Sheet2!$I$2,IF($D18=Sheet2!$A$2,Sheet2!$I$2,IF($D18=Sheet2!$A$3,Sheet2!$I$3,IF($D18=Sheet2!$A$4,Sheet2!$I$4,IF($D18=Sheet2!$A$5,Sheet2!$I$5,IF($D18=Sheet2!$A$6,Sheet2!$I$6,IF($D18=Sheet2!$A$7,Sheet2!$I$7," ")))))))
E20: v | H20: =IF($D20=Sheet2!$A$2,Sheet2!$C$2,IF($D20=Sheet2!$A$3,Sheet2!$C$3,IF($D20=Sheet2!$A$4,Sheet2!$C$4,IF($D20=Sheet2!$A$5,Sheet2!$C$5,IF($D20=Sheet2!$A$6,Sheet2!$C$6,IF($D20=Sheet2!$A$7,Sheet2!$C$7," ")))))) | J20: =IF($D20=Sheet2!$A$2,Sheet2!$G$2,IF($D20=Sheet2!$A$2,Sheet2!$G$2,IF($D20=Sheet2!$A$3,Sheet2!$G$3,IF($D20=Sheet2!$A$4,Sheet2!$G$4,IF($D20=Sheet2!$A$5,Sheet2!$G$5,IF($D20=Sheet2!$A$6,Sheet2!$G$6,IF($D20=Sheet2!$A$7,Sheet2!$G$7," "))))))) | L20: =IF($D20=Sheet2!$A$2,Sheet2!$I$2,IF($D20=Sheet2!$A$2,Sheet2!$I$2,IF($D20=Sheet2!$A$3,Sheet2!$I$3,IF($D20=Sheet2!$A$4,Sheet2!$I$4,IF($D20=Sheet2!$A$5,Sheet2!$I$5,IF($D20=Sheet2!$A$6,Sheet2!$I$6,IF($D20=Sheet2!$A$7,Sheet2!$I$7," ")))))))
E22: v | H22: =IF($D22=Sheet2!$A$2,Sheet2!$C$2,IF($D22=Sheet2!$A$3,Sheet2!$C$3,IF($D22=Sheet2!$A$4,Sheet2!$C$4,IF($D22=Sheet2!$A$5,Sheet2!$C$5,IF($D22=Sheet2!$A$6,Sheet2!$C$6,IF($D22=Sheet2!$A$7,Sheet2!$C$7," ")))))) | J22: =IF($D22=Sheet2!$A$2,Sheet2!$G$2,IF($D22=Sheet2!$A$2,Sheet2!$G$2,IF($D22=Sheet2!$A$3,Sheet2!$G$3,IF($D22=Sheet2!$A$4,Sheet2!$G$4,IF($D22=Sheet2!$A$5,Sheet2!$G$5,IF($D22=Sheet2!$A$6,Sheet2!$G$6,IF($D22=Sheet2!$A$7,Sheet2!$G$7," "))))))) | L22: =IF($D22=Sheet2!$A$2,Sheet2!$I$2,IF($D22=Sheet2!$A$2,Sheet2!$I$2,IF($D22=Sheet2!$A$3,Sheet2!$I$3,IF($D22=Sheet2!$A$4,Sheet2!$I$4,IF($D22=Sheet2!$A$5,Sheet2!$I$5,IF($D22=Sheet2!$A$6,Sheet2!$I$6,IF($D22=Sheet2!$A$7,Sheet2!$I$7," ")))))))
E24: v | H24: =IF($D24=Sheet2!$A$2,Sheet2!$C$2,IF($D24=Sheet2!$A$3,Sheet2!$C$3,IF($D24=Sheet2!$A$4,Sheet2!$C$4,IF($D24=Sheet2!$A$5,Sheet2!$C$5,IF($D24=Sheet2!$A$6,Sheet2!$C$6,IF($D24=Sheet2!$A$7,Sheet2!$C$7," ")))))) | J24: =IF($D24=Sheet2!$A$2,Sheet2!$G$2,IF($D24=Sheet2!$A$2,Sheet2!$G$2,IF($D24=Sheet2!$A$3,Sheet2!$G$3,IF($D24=Sheet2!$A$4,Sheet2!$G$4,IF($D24=Sheet2!$A$5,Sheet2!$G$5,IF($D24=Sheet2!$A$6,Sheet2!$G$6,IF($D24=Sheet2!$A$7,Sheet2!$G$7," "))))))) | L24: =IF($D24=Sheet2!$A$2,Sheet2!$I$2,IF($D24=Sheet2!$A$2,Sheet2!$I$2,IF($D24=Sheet2!$A$3,Sheet2!$I$3,IF($D24=Sheet2!$A$4,Sheet2!$I$4,IF($D24=Sheet2!$A$5,Sheet2!$I$5,IF($D24=Sheet2!$A$6,Sheet2!$I$6,IF($D24=Sheet2!$A$7,Sheet2!$I$7," ")))))))
E26: v | H26: =IF($D26=Sheet2!$A$2,Sheet2!$C$2,IF($D26=Sheet2!$A$3,Sheet2!$C$3,IF($D26=Sheet2!$A$4,Sheet2!$C$4,IF($D26=Sheet2!$A$5,Sheet2!$C$5,IF($D26=Sheet2!$A$6,Sheet2!$C$6,IF($D26=Sheet2!$A$7,Sheet2!$C$7," ")))))) | J26: =IF($D26=Sheet2!$A$2,Sheet2!$G$2,IF($D26=Sheet2!$A$2,Sheet2!$G$2,IF($D26=Sheet2!$A$3,Sheet2!$G$3,IF($D26=Sheet2!$A$4,Sheet2!$G$4,IF($D26=Sheet2!$A$5,Sheet2!$G$5,IF($D26=Sheet2!$A$6,Sheet2!$G$6,IF($D26=Sheet2!$A$7,Sheet2!$G$7," "))))))) | L26: =IF($D26=Sheet2!$A$2,Sheet2!$I$2,IF($D26=Sheet2!$A$2,Sheet2!$I$2,IF($D26=Sheet2!$A$3,Sheet2!$I$3,IF($D26=Sheet2!$A$4,Sheet2!$I$4,IF($D26=Sheet2!$A$5,Sheet2!$I$5,IF($D26=Sheet2!$A$6,Sheet2!$I$6,IF($D26=Sheet2!$A$7,Sheet2!$I$7," ")))))))
E28: v | H28: =IF($D28=Sheet2!$A$2,Sheet2!$C$2,IF($D28=Sheet2!$A$3,Sheet2!$C$3,IF($D28=Sheet2!$A$4,Sheet2!$C$4,IF($D28=Sheet2!$A$5,Sheet2!$C$5,IF($D28=Sheet2!$A$6,Sheet2!$C$6,IF($D28=Sheet2!$A$7,Sheet2!$C$7," ")))))) | J28: =IF($D28=Sheet2!$A$2,Sheet2!$G$2,IF($D28=Sheet2!$A$2,Sheet2!$G$2,IF($D28=Sheet2!$A$3,Sheet2!$G$3,IF($D28=Sheet2!$A$4,Sheet2!$G$4,IF($D28=Sheet2!$A$5,Sheet2!$G$5,IF($D28=Sheet2!$A$6,Sheet2!$G$6,IF($D28=Sheet2!$A$7,Sheet2!$G$7," "))))))) | L28: =IF($D28=Sheet2!$A$2,Sheet2!$I$2,IF($D28=Sheet2!$A$2,Sheet2!$I$2,IF($D28=Sheet2!$A$3,Sheet2!$I$3,IF($D28=Sheet2!$A$4,Sheet2!$I$4,IF($D28=Sheet2!$A$5,Sheet2!$I$5,IF($D28=Sheet2!$A$6,Sheet2!$I$6,IF($D28=Sheet2!$A$7,Sheet2!$I$7," ")))))))
E30: v | H30: =IF($D30=Sheet2!$A$2,Sheet2!$C$2,IF($D30=Sheet2!$A$3,Sheet2!$C$3,IF($D30=Sheet2!$A$4,Sheet2!$C$4,IF($D30=Sheet2!$A$5,Sheet2!$C$5,IF($D30=Sheet2!$A$6,Sheet2!$C$6,IF($D30=Sheet2!$A$7,Sheet2!$C$7," ")))))) | J30: =IF($D30=Sheet2!$A$2,Sheet2!$G$2,IF($D30=Sheet2!$A$2,Sheet2!$G$2,IF($D30=Sheet2!$A$3,Sheet2!$G$3,IF($D30=Sheet2!$A$4,Sheet2!$G$4,IF($D30=Sheet2!$A$5,Sheet2!$G$5,IF($D30=Sheet2!$A$6,Sheet2!$G$6,IF($D30=Sheet2!$A$7,Sheet2!$G$7," "))))))) | L30: =IF($D30=Sheet2!$A$2,Sheet2!$I$2,IF($D30=Sheet2!$A$2,Sheet2!$I$2,IF($D30=Sheet2!$A$3,Sheet2!$I$3,IF($D30=Sheet2!$A$4,Sheet2!$I$4,IF($D30=Sheet2!$A$5,Sheet2!$I$5,IF($D30=Sheet2!$A$6,Sheet2!$I$6,IF($D30=Sheet2!$A$7,Sheet2!$I$7," ")))))))
B32: Please complete and return this form to the Fixtures Secretary prior to your first match
B33: Post to: Philip Huggett, 4 Eastbourne Road, Willingdon, East Sussex BN20 9LB
B34: or
B35: Form available for download on website - email to: philip@eastbournebadminton.co.uk

Sheet Sheet2
A2: Arctic Spas | C2: Willingdon Primary School, Rapson’s Rd, Eastbourne (BN20 9RJ) | E2: Friday | G2: 8.00pm | I2: 4 Courts | K2: cargo.trial.lamp
A3: Cooden | C3: Bexhill Sixth Form College, Penland Rd, Bexhill-on-Sea (TN40 2JG) | E3: Tuesday | G3: 8.00pm | I3: 2 Courts | K3: plot.oldest.horn
A4: David Lloyd Club | C4: David Lloyd Eastbourne, Broadwater Way, Eastbourne (BN22 9PZ) | E4: Monday | G4: 7.00pm | I4: 2 Courts | K4: effort.less.choice
A5: Hailsham | C5: University of Brighton, 1 Denton Road, Eastbourne (BN20 7SR) | E5: Tuesday | G5: 8.00pm | I5: 3 Courts | K5: grab.chairs.surely
A6: Lewes | C6: University of Brighton, Village Way, Falmer (BN1 9PH) | E6: Friday | G6: 7.30pm | I6: 2 Courts | K6: bricks.skin.recent (car park - words.sentences.terms)
A7: YMCA | C7: Helenswood Sports Centre, The Ridge, Hastings (TN37 7PS) | E7: Friday | G7: 7.30pm | I7: 2 Courts | K7: lasted.models.laptop
A10: Mens Division 1
A11: Mixed Division 1
